BEGIN:VCALENDAR
VERSION:2.0
PRODID:-//Sri Guruvayurappan Temple London - ECPv6.15.20//NONSGML v1.0//EN
CALSCALE:GREGORIAN
METHOD:PUBLISH
X-WR-CALNAME:Sri Guruvayurappan Temple London
X-ORIGINAL-URL:https://londonguruvayurappan.org
X-WR-CALDESC:Events for Sri Guruvayurappan Temple London
REFRESH-INTERVAL;VALUE=DURATION:PT1H
X-Robots-Tag:noindex
X-PUBLISHED-TTL:PT1H
BEGIN:VTIMEZONE
TZID:Europe/London
BEGIN:DAYLIGHT
TZOFFSETFROM:+0000
TZOFFSETTO:+0100
TZNAME:BST
DTSTART:20250330T010000
END:DAYLIGHT
BEGIN:STANDARD
TZOFFSETFROM:+0100
TZOFFSETTO:+0000
TZNAME:GMT
DTSTART:20251026T010000
END:STANDARD
BEGIN:DAYLIGHT
TZOFFSETFROM:+0000
TZOFFSETTO:+0100
TZNAME:BST
DTSTART:20260329T010000
END:DAYLIGHT
BEGIN:STANDARD
TZOFFSETFROM:+0100
TZOFFSETTO:+0000
TZNAME:GMT
DTSTART:20261025T010000
END:STANDARD
BEGIN:DAYLIGHT
TZOFFSETFROM:+0000
TZOFFSETTO:+0100
TZNAME:BST
DTSTART:20270328T010000
END:DAYLIGHT
BEGIN:STANDARD
TZOFFSETFROM:+0100
TZOFFSETTO:+0000
TZNAME:GMT
DTSTART:20271031T010000
END:STANDARD
END:VTIMEZONE
BEGIN:VEVENT
DTSTART;TZID=Europe/London:20260131T173000
DTEND;TZID=Europe/London:20260131T213000
DTSTAMP:20260421T135554
CREATED:20260113T211714Z
LAST-MODIFIED:20260113T211714Z
UID:1069-1769880600-1769895000@londonguruvayurappan.org
SUMMARY:Vivekananda Jayanthi
DESCRIPTION:PROGRAMS \n\nCHILDREN’S BHAJAN (GURUVAYURAPPA SEVASANGHAM)\nVIVEKANANDA’S SPEECHES\nCHILDREN’S ACTIVITIES (GURUVAYURAPPA SEVASANGHAM KID’S)\nDEEPARADHANA\nANNADHANAM
URL:https://londonguruvayurappan.org/events/vivekananda-jayanthi/
LOCATION:West Thornton Community Centre\, 731-735 London Rd\, Thornton Heath\, CR7 6AU\, United Kingdom
ATTACH;FMTTYPE=image/jpeg:https://londonguruvayurappan.org/wp-content/uploads/2026/01/Vivekananda-Jayanthi.jpeg
END:VEVENT
END:VCALENDAR